BEGIN:VCALENDAR
VERSION:2.0
PRODID:-//イルチブレインヨガ岡山スタジオ - ECPv6.15.20//NONSGML v1.0//EN
CALSCALE:GREGORIAN
METHOD:PUBLISH
X-WR-CALNAME:イルチブレインヨガ岡山スタジオ
X-ORIGINAL-URL:https://ilchibrainyoga-okayama.com
X-WR-CALDESC:イルチブレインヨガ岡山スタジオ のイベント
REFRESH-INTERVAL;VALUE=DURATION:PT1H
X-Robots-Tag:noindex
X-PUBLISHED-TTL:PT1H
BEGIN:VTIMEZONE
TZID:Asia/Tokyo
BEGIN:STANDARD
TZOFFSETFROM:+0900
TZOFFSETTO:+0900
TZNAME:JST
DTSTART:20250101T000000
END:STANDARD
END:VTIMEZONE
BEGIN:VEVENT
DTSTART;TZID=Asia/Tokyo:20260107T100000
DTEND;TZID=Asia/Tokyo:20260107T210000
DTSTAMP:20260424T184141
CREATED:20251218T054321Z
LAST-MODIFIED:20251218T054321Z
UID:5216-1767780000-1767819600@ilchibrainyoga-okayama.com
SUMMARY:腸と脳の新感覚YOGA体験会
DESCRIPTION:丹田たたき、腸運動、ブレイン体操、呼吸瞑想、腸チェック\n開催日：1月7日㈬、10日㈯、13日㈫，17日㈯、21日㈬、23日㈮、25日㈰、28日㈬\n時間：10:00～、14:00～、18:30～（約２時間）\n会場名：イルチブレインヨガ岡山スタジオ\n会場住所：岡山市北区磨屋町9-30　SDビル４階\n参加費：1000円\nトレーナー：藤定明美\n問合せ電話：086-234-8356 \nLINEご予約はこちら：https://lin.ee/ruJv6KV \n\n\n  \n\n\n\n\n\n \n体験ご希望日時\n		(必須)　※ご注意：月曜日は定休日です\n		\n \n—以下から選択してください—10111213141516171819時 —以下から選択してください—001020304050分 ～ のクラス\n \nお名前\n		 (必須)\n		\n \n\n \nメールアドレス\n		 (必須)\n		\n \n\n \nお電話番号（携帯可）\n		 (必須)\n		\n \n\n \nこちらのスタジオを何でお知りになりましたか？\n		 (必須)\n		\n \nチラシ看板書籍雑誌紹介Yahoo検索Google検索口コミその他Webサイト\n \nご関心があること、習得したいこと（複数可）\n \n自然治癒力アップ集中力アップダイエット体質改善ストレス緩和丹田強化呼吸法瞑想法その他\n \n備考欄\n \n\n \n\n\n \n\n Δ \n\n\n\n株式会社DAHN WORLD JAPAN　ダンワールドジャパン
URL:https://ilchibrainyoga-okayama.com/event/okayama-79/
LOCATION:イルチブレインヨガ岡山スタジオ\, 岡山市北区磨屋町9-30　SDビル401\, 岡山市北区\, 岡山県\, 7000826\, Japan
CATEGORIES:ワークショップ
END:VEVENT
BEGIN:VEVENT
DTSTART;TZID=Asia/Tokyo:20260110T100000
DTEND;TZID=Asia/Tokyo:20260110T210000
DTSTAMP:20260424T184141
CREATED:20251218T054347Z
LAST-MODIFIED:20251218T054347Z
UID:5219-1768039200-1768078800@ilchibrainyoga-okayama.com
SUMMARY:腸と脳の新感覚YOGA体験会
DESCRIPTION:丹田たたき、腸運動、ブレイン体操、呼吸瞑想、腸チェック\n開催日：1月10日㈯、13日㈫，17日㈯、21日㈬、23日㈮、25日㈰、28日㈬\n時間：10:00～、14:00～、18:30～（約２時間）\n会場名：イルチブレインヨガ岡山スタジオ\n会場住所：岡山市北区磨屋町9-30　SDビル４階\n参加費：1000円\nトレーナー：藤定明美\n問合せ電話：086-234-8356 \nLINEご予約はこちら：https://lin.ee/ruJv6KV \n\n\n  \n\n\n\n\n\n \n体験ご希望日時\n		(必須)　※ご注意：月曜日は定休日です\n		\n \n—以下から選択してください—10111213141516171819時 —以下から選択してください—001020304050分 ～ のクラス\n \nお名前\n		 (必須)\n		\n \n\n \nメールアドレス\n		 (必須)\n		\n \n\n \nお電話番号（携帯可）\n		 (必須)\n		\n \n\n \nこちらのスタジオを何でお知りになりましたか？\n		 (必須)\n		\n \nチラシ看板書籍雑誌紹介Yahoo検索Google検索口コミその他Webサイト\n \nご関心があること、習得したいこと（複数可）\n \n自然治癒力アップ集中力アップダイエット体質改善ストレス緩和丹田強化呼吸法瞑想法その他\n \n備考欄\n \n\n \n\n\n \n\n Δ \n\n\n\n株式会社DAHN WORLD JAPAN　ダンワールドジャパン
URL:https://ilchibrainyoga-okayama.com/event/okayama-91/
LOCATION:イルチブレインヨガ岡山スタジオ\, 岡山市北区磨屋町9-30　SDビル401\, 岡山市北区\, 岡山県\, 7000826\, Japan
CATEGORIES:ワークショップ
END:VEVENT
BEGIN:VEVENT
DTSTART;TZID=Asia/Tokyo:20260113T100000
DTEND;TZID=Asia/Tokyo:20260113T210000
DTSTAMP:20260424T184141
CREATED:20251218T054411Z
LAST-MODIFIED:20251218T054411Z
UID:5221-1768298400-1768338000@ilchibrainyoga-okayama.com
SUMMARY:腸と脳の新感覚YOGA体験会
DESCRIPTION:丹田たたき、腸運動、ブレイン体操、呼吸瞑想、腸チェック\n開催日：1月13日㈫，17日㈯、21日㈬、23日㈮、25日㈰、28日㈬\n時間：10:00～、14:00～、18:30～（約２時間）\n会場名：イルチブレインヨガ岡山スタジオ\n会場住所：岡山市北区磨屋町9-30　SDビル４階\n参加費：1000円\nトレーナー：藤定明美\n問合せ電話：086-234-8356 \nLINEご予約はこちら：https://lin.ee/ruJv6KV \n\n\n  \n\n\n\n\n\n \n体験ご希望日時\n		(必須)　※ご注意：月曜日は定休日です\n		\n \n—以下から選択してください—10111213141516171819時 —以下から選択してください—001020304050分 ～ のクラス\n \nお名前\n		 (必須)\n		\n \n\n \nメールアドレス\n		 (必須)\n		\n \n\n \nお電話番号（携帯可）\n		 (必須)\n		\n \n\n \nこちらのスタジオを何でお知りになりましたか？\n		 (必須)\n		\n \nチラシ看板書籍雑誌紹介Yahoo検索Google検索口コミその他Webサイト\n \nご関心があること、習得したいこと（複数可）\n \n自然治癒力アップ集中力アップダイエット体質改善ストレス緩和丹田強化呼吸法瞑想法その他\n \n備考欄\n \n\n \n\n\n \n\n Δ \n\n\n\n株式会社DAHN WORLD JAPAN　ダンワールドジャパン
URL:https://ilchibrainyoga-okayama.com/event/okayama-92/
LOCATION:イルチブレインヨガ岡山スタジオ\, 岡山市北区磨屋町9-30　SDビル401\, 岡山市北区\, 岡山県\, 7000826\, Japan
CATEGORIES:ワークショップ
END:VEVENT
BEGIN:VEVENT
DTSTART;TZID=Asia/Tokyo:20260117T100000
DTEND;TZID=Asia/Tokyo:20260117T210000
DTSTAMP:20260424T184141
CREATED:20251218T054446Z
LAST-MODIFIED:20251218T054446Z
UID:5223-1768644000-1768683600@ilchibrainyoga-okayama.com
SUMMARY:腸と脳の新感覚YOGA体験会
DESCRIPTION:丹田たたき、腸運動、ブレイン体操、呼吸瞑想、腸チェック\n開催日：1月17日㈯、21日㈬、23日㈮、25日㈰、28日㈬\n時間：10:00～、14:00～、18:30～（約２時間）\n会場名：イルチブレインヨガ岡山スタジオ\n会場住所：岡山市北区磨屋町9-30　SDビル４階\n参加費：1000円\nトレーナー：藤定明美\n問合せ電話：086-234-8356 \nLINEご予約はこちら：https://lin.ee/ruJv6KV \n\n\n  \n\n\n\n\n\n \n体験ご希望日時\n		(必須)　※ご注意：月曜日は定休日です\n		\n \n—以下から選択してください—10111213141516171819時 —以下から選択してください—001020304050分 ～ のクラス\n \nお名前\n		 (必須)\n		\n \n\n \nメールアドレス\n		 (必須)\n		\n \n\n \nお電話番号（携帯可）\n		 (必須)\n		\n \n\n \nこちらのスタジオを何でお知りになりましたか？\n		 (必須)\n		\n \nチラシ看板書籍雑誌紹介Yahoo検索Google検索口コミその他Webサイト\n \nご関心があること、習得したいこと（複数可）\n \n自然治癒力アップ集中力アップダイエット体質改善ストレス緩和丹田強化呼吸法瞑想法その他\n \n備考欄\n \n\n \n\n\n \n\n Δ \n\n\n\n株式会社DAHN WORLD JAPAN　ダンワールドジャパン
URL:https://ilchibrainyoga-okayama.com/event/okayama-158/
LOCATION:イルチブレインヨガ岡山スタジオ\, 岡山市北区磨屋町9-30　SDビル401\, 岡山市北区\, 岡山県\, 7000826\, Japan
CATEGORIES:ワークショップ
END:VEVENT
BEGIN:VEVENT
DTSTART;TZID=Asia/Tokyo:20260121T100000
DTEND;TZID=Asia/Tokyo:20260121T210000
DTSTAMP:20260424T184141
CREATED:20251218T054511Z
LAST-MODIFIED:20251218T054511Z
UID:5225-1768989600-1769029200@ilchibrainyoga-okayama.com
SUMMARY:腸と脳の新感覚YOGA体験会
DESCRIPTION:丹田たたき、腸運動、ブレイン体操、呼吸瞑想、腸チェック\n開催日：1月21日㈬、23日㈮、25日㈰、28日㈬\n時間：10:00～、14:00～、18:30～（約２時間）\n会場名：イルチブレインヨガ岡山スタジオ\n会場住所：岡山市北区磨屋町9-30　SDビル４階\n参加費：1000円\nトレーナー：藤定明美\n問合せ電話：086-234-8356 \nLINEご予約はこちら：https://lin.ee/ruJv6KV \n\n\n  \n\n\n\n\n\n \n体験ご希望日時\n		(必須)　※ご注意：月曜日は定休日です\n		\n \n—以下から選択してください—10111213141516171819時 —以下から選択してください—001020304050分 ～ のクラス\n \nお名前\n		 (必須)\n		\n \n\n \nメールアドレス\n		 (必須)\n		\n \n\n \nお電話番号（携帯可）\n		 (必須)\n		\n \n\n \nこちらのスタジオを何でお知りになりましたか？\n		 (必須)\n		\n \nチラシ看板書籍雑誌紹介Yahoo検索Google検索口コミその他Webサイト\n \nご関心があること、習得したいこと（複数可）\n \n自然治癒力アップ集中力アップダイエット体質改善ストレス緩和丹田強化呼吸法瞑想法その他\n \n備考欄\n \n\n \n\n\n \n\n Δ \n\n\n\n株式会社DAHN WORLD JAPAN　ダンワールドジャパン
URL:https://ilchibrainyoga-okayama.com/event/okayama-159/
LOCATION:イルチブレインヨガ岡山スタジオ\, 岡山市北区磨屋町9-30　SDビル401\, 岡山市北区\, 岡山県\, 7000826\, Japan
CATEGORIES:ワークショップ
END:VEVENT
BEGIN:VEVENT
DTSTART;TZID=Asia/Tokyo:20260123T100000
DTEND;TZID=Asia/Tokyo:20260123T210000
DTSTAMP:20260424T184141
CREATED:20251218T054535Z
LAST-MODIFIED:20251218T054535Z
UID:5227-1769162400-1769202000@ilchibrainyoga-okayama.com
SUMMARY:腸と脳の新感覚YOGA体験会
DESCRIPTION:丹田たたき、腸運動、ブレイン体操、呼吸瞑想、腸チェック\n開催日：1月23日㈮、25日㈰、28日㈬\n時間：10:00～、14:00～、18:30～（約２時間）\n会場名：イルチブレインヨガ岡山スタジオ\n会場住所：岡山市北区磨屋町9-30　SDビル４階\n参加費：1000円\nトレーナー：藤定明美\n問合せ電話：086-234-8356 \nLINEご予約はこちら：https://lin.ee/ruJv6KV \n\n\n  \n\n\n\n\n\n \n体験ご希望日時\n		(必須)　※ご注意：月曜日は定休日です\n		\n \n—以下から選択してください—10111213141516171819時 —以下から選択してください—001020304050分 ～ のクラス\n \nお名前\n		 (必須)\n		\n \n\n \nメールアドレス\n		 (必須)\n		\n \n\n \nお電話番号（携帯可）\n		 (必須)\n		\n \n\n \nこちらのスタジオを何でお知りになりましたか？\n		 (必須)\n		\n \nチラシ看板書籍雑誌紹介Yahoo検索Google検索口コミその他Webサイト\n \nご関心があること、習得したいこと（複数可）\n \n自然治癒力アップ集中力アップダイエット体質改善ストレス緩和丹田強化呼吸法瞑想法その他\n \n備考欄\n \n\n \n\n\n \n\n Δ \n\n\n\n株式会社DAHN WORLD JAPAN　ダンワールドジャパン
URL:https://ilchibrainyoga-okayama.com/event/okayama-160/
LOCATION:イルチブレインヨガ岡山スタジオ\, 岡山市北区磨屋町9-30　SDビル401\, 岡山市北区\, 岡山県\, 7000826\, Japan
CATEGORIES:ワークショップ
END:VEVENT
BEGIN:VEVENT
DTSTART;TZID=Asia/Tokyo:20260125T100000
DTEND;TZID=Asia/Tokyo:20260125T210000
DTSTAMP:20260424T184141
CREATED:20251218T054558Z
LAST-MODIFIED:20251218T054558Z
UID:5229-1769335200-1769374800@ilchibrainyoga-okayama.com
SUMMARY:腸と脳の新感覚YOGA体験会
DESCRIPTION:丹田たたき、腸運動、ブレイン体操、呼吸瞑想、腸チェック\n開催日：1月25日㈰、28日㈬\n時間：10:00～、14:00～、18:30～（約２時間）\n会場名：イルチブレインヨガ岡山スタジオ\n会場住所：岡山市北区磨屋町9-30　SDビル４階\n参加費：1000円\nトレーナー：藤定明美\n問合せ電話：086-234-8356 \nLINEご予約はこちら：https://lin.ee/ruJv6KV \n\n\n  \n\n\n\n\n\n \n体験ご希望日時\n		(必須)　※ご注意：月曜日は定休日です\n		\n \n—以下から選択してください—10111213141516171819時 —以下から選択してください—001020304050分 ～ のクラス\n \nお名前\n		 (必須)\n		\n \n\n \nメールアドレス\n		 (必須)\n		\n \n\n \nお電話番号（携帯可）\n		 (必須)\n		\n \n\n \nこちらのスタジオを何でお知りになりましたか？\n		 (必須)\n		\n \nチラシ看板書籍雑誌紹介Yahoo検索Google検索口コミその他Webサイト\n \nご関心があること、習得したいこと（複数可）\n \n自然治癒力アップ集中力アップダイエット体質改善ストレス緩和丹田強化呼吸法瞑想法その他\n \n備考欄\n \n\n \n\n\n \n\n Δ \n\n\n\n株式会社DAHN WORLD JAPAN　ダンワールドジャパン
URL:https://ilchibrainyoga-okayama.com/event/okayama-161/
LOCATION:イルチブレインヨガ岡山スタジオ\, 岡山市北区磨屋町9-30　SDビル401\, 岡山市北区\, 岡山県\, 7000826\, Japan
CATEGORIES:ワークショップ
END:VEVENT
BEGIN:VEVENT
DTSTART;TZID=Asia/Tokyo:20260128T100000
DTEND;TZID=Asia/Tokyo:20260128T210000
DTSTAMP:20260424T184141
CREATED:20251218T054622Z
LAST-MODIFIED:20251218T054622Z
UID:5231-1769594400-1769634000@ilchibrainyoga-okayama.com
SUMMARY:腸と脳の新感覚YOGA体験会
DESCRIPTION:丹田たたき、腸運動、ブレイン体操、呼吸瞑想、腸チェック\n開催日：1月28日㈬\n時間：10:00～、14:00～、18:30～（約２時間）\n会場名：イルチブレインヨガ岡山スタジオ\n会場住所：岡山市北区磨屋町9-30　SDビル４階\n参加費：1000円\nトレーナー：藤定明美\n問合せ電話：086-234-8356 \nLINEご予約はこちら：https://lin.ee/ruJv6KV \n\n\n  \n\n\n\n\n\n \n体験ご希望日時\n		(必須)　※ご注意：月曜日は定休日です\n		\n \n—以下から選択してください—10111213141516171819時 —以下から選択してください—001020304050分 ～ のクラス\n \nお名前\n		 (必須)\n		\n \n\n \nメールアドレス\n		 (必須)\n		\n \n\n \nお電話番号（携帯可）\n		 (必須)\n		\n \n\n \nこちらのスタジオを何でお知りになりましたか？\n		 (必須)\n		\n \nチラシ看板書籍雑誌紹介Yahoo検索Google検索口コミその他Webサイト\n \nご関心があること、習得したいこと（複数可）\n \n自然治癒力アップ集中力アップダイエット体質改善ストレス緩和丹田強化呼吸法瞑想法その他\n \n備考欄\n \n\n \n\n\n \n\n Δ \n\n\n\n株式会社DAHN WORLD JAPAN　ダンワールドジャパン
URL:https://ilchibrainyoga-okayama.com/event/okayama-162/
LOCATION:イルチブレインヨガ岡山スタジオ\, 岡山市北区磨屋町9-30　SDビル401\, 岡山市北区\, 岡山県\, 7000826\, Japan
CATEGORIES:ワークショップ
END:VEVENT
END:VCALENDAR